BEGIN:VCALENDAR
VERSION:2.0
PRODID:-//Myy Learning - ECPv6.15.20//NONSGML v1.0//EN
CALSCALE:GREGORIAN
METHOD:PUBLISH
X-ORIGINAL-URL:https://myylearning.fi
X-WR-CALDESC:Tapahtumat Myy Learning
REFRESH-INTERVAL;VALUE=DURATION:PT1H
X-Robots-Tag:noindex
X-PUBLISHED-TTL:PT1H
BEGIN:VTIMEZONE
TZID:Europe/Helsinki
BEGIN:DAYLIGHT
TZOFFSETFROM:+0200
TZOFFSETTO:+0300
TZNAME:EEST
DTSTART:20250330T010000
END:DAYLIGHT
BEGIN:STANDARD
TZOFFSETFROM:+0300
TZOFFSETTO:+0200
TZNAME:EET
DTSTART:20251026T010000
END:STANDARD
BEGIN:DAYLIGHT
TZOFFSETFROM:+0200
TZOFFSETTO:+0300
TZNAME:EEST
DTSTART:20260329T010000
END:DAYLIGHT
BEGIN:STANDARD
TZOFFSETFROM:+0300
TZOFFSETTO:+0200
TZNAME:EET
DTSTART:20261025T010000
END:STANDARD
BEGIN:DAYLIGHT
TZOFFSETFROM:+0200
TZOFFSETTO:+0300
TZNAME:EEST
DTSTART:20270328T010000
END:DAYLIGHT
BEGIN:STANDARD
TZOFFSETFROM:+0300
TZOFFSETTO:+0200
TZNAME:EET
DTSTART:20271031T010000
END:STANDARD
END:VTIMEZONE
BEGIN:VEVENT
DTSTART;TZID=Europe/Helsinki:20260325T190000
DTEND;TZID=Europe/Helsinki:20260325T203000
DTSTAMP:20260421T131519
CREATED:20260205T084351Z
LAST-MODIFIED:20260325T055014Z
UID:5217-1774465200-1774470600@myylearning.fi
SUMMARY:Kuluttajaluento: Kissojen sosiaalinen elämä (maksuton)
DESCRIPTION:Hei kissaihminen\, kiinnostaako sinua: \n\nOnko kissa sosiaalinen eläinlaji ja mitkä asiat kissojen sosiaalisiin suhteisiin vaikuttaa?\nTiesitkö\, että kissojen suhteet eri eläinlajeihin lähtevät muodostumaan jo kahden viikon ikäisenä pentuna?\nMiten kissojen sosiaalisuus näyttäytyy ja vaikuttaa arkeen\nmiten voimme huomioimalla kissan lajityypilliset sosiaaliset tarpeet sujuvoittaa yhteisteiseloa ja erilaisia tilanteita\,\nkuten eläinlääkärissä käymistä tai uuteen kissakaveriin tutustuttamista?\nEläinlääkärin näkökulma aiheen ympäriltä\n\n  \nKissojen alkuperän ja perinnöllisten ominaisuuksien tunteminen auttaa ymmärtämään\, miten kissamme kokevat ja\ntuntevat sekä reagoivat arkielämämme eri tilanteisiin. Lajityypillisen käyttäytymisen ja elekielen ymmärtäminen\nsujuvoittaa molemminpuolista vuorovaikutusta ja yhteistä arkea sekä lisää molemminpuolista hyvinvointia. \nNäihin kysymyksiin vastaavat ja kissojen välisistä suhteista eri eläinlajeihin kertovat eläintenkouluttaja Jenni Yli-Tainio sekä eläinlääkäri Elina Kiiskinen. \nTule kuuntelemaan vinkit hyvien suhteiden luomiseen kissallesi. \nJenni on kissojen käyttäytymiseen erikoistunut eläintenkouluttaja\, Animal activelta. \n \nLuennoitsijaesittelyt: \nJenni Yli- Tainio \nLuennoitsija Jenni Yli-Tainio on kissojen käyttäytymiseen ja hyvinvointiin erikoistunut eläintenkouluttaja. Jenni on suorittanut useamman eläinalan ammattitutkinnon ja jatkokouluttautunut eläintenkouluttajan erikoisammattitutkintojen parissa ongelmakäyttäytymisen hoidosta\, sekä työ- ja kilpailueläin puolella.\nHän toimii Animal active nimisen yrityksen takana\, yhdessä kuuden pelastus- ja löytötaustaisen kissan kanssa. \nKissojensa kanssa jaetaan niin työ\, kuin vapaa-ajan hetket\, sillä kissat toimivat Jennin työkavereina eläinnäyttelijöinä. Vapaa-ajalla he rakastavat rikkoa yhdessä erilaisia kissoihin liittyviä myyttejä harrastamalla erilaisia kissojen hyvinvointia tukevia asioita\, kuten esimerkiksi agilityä\, noseworkkia\, luonnossa kulkemista\, moottorikelkkailua ja kissasuppailua. \nJenni on työskennellyt monipuolisen uran erilaisissa eläinten hyvinvointia koskevissa ammateissa maatalouslomittamisesta\, klinikkaeläinhoitamiseen ja eläintenkouluttamiseen.\nHänen erityisiin mielenkiinnon kohteisiin kuuluukin erilaiset eläinten käytöshaasteet ja kokonaisvaltainen hyvinvointi. Sydämen asiana Jennille on saada olla rakentamassa kissojen hyvinvointia ja arvostusta\, sekä luomassa eläimille ja heidän ihmisilleen sujuvampaa yhteistä arkea. \nEläinlääkäri Elina Kiiskinen \n \nElina työskentelee eläinlääkärinä Pyynikin eläinlääkäreillä.  \nElina on opiskellut eläinlääkäriksi Helsingin yliopistossa ja tehnyt pieneläinlääkärin töitä vuodesta 2021 alkaen. Kissoihin Elina on rakastunut töiden kautta ja kissalääketiede sekä kissapotilaat ovatkin erityisen lähellä Elinan sydäntä. Työssään Elina haluaa kiinnittää erityistä huomiota kissaystävälliseen käsittelyyn sekä kissojen yksilöllisten tarpeiden huomioimiseen. \nLisäkoulutuksena Elina on suorittanut ISFM:n ja CVE:n järjestämän kahden vuoden lisäkoulutuksen kissojen sairauksiin liittyen sekä Cat Friendly Veterinary Professional -kurssin. \nVapaa-ajallaan Elinan voi tavata kuntosalilla\, lenkkipoluilla kahden koiran (ja vauvan) kanssa tai haaveilemasta paratiisirannoista. \nLisätiedot: \nLuento on maksuton\, eikä siitä tehdä tallennetta. Kysymykset: laura@myylearning.fi \nLuennon mahdollistaa Pyynikin Eläinlääkärit  – Lempeää hoitoa\, parhaalle ystävällesi. \nPyynikin eläinlääkärit on täysin kotimainen\, itsenäinen pienyritys. Haluamme hoitaa jokaista potilasta\, kuin omaamme. Eläinrakkaat ammattilaisemme huolehtivat lemmikistäsi terveyden- ja sairaudenhoidon osalta. \n  \nIlmoittaudu 24.3. mennessä. Tervetuloa mukaan. Muista myös webinaarimme ”Kissan aggressiivinen käyttäytyminen: Syyt\, seuraukset ja ratkaisut” 22.4. klo 19.00 \n \n 
URL:https://myylearning.fi/koulutus/kuluttajaluento-kissojen-sosiaalinen-elama-maksuton/
LOCATION:Teams (Online)\, Finland
CATEGORIES:Etäkoulutus,Kuluttajaluento,Luento,Verkkotapahtuma
ATTACH;FMTTYPE=image/jpeg:https://myylearning.fi/wp-content/uploads/2025/04/sandra1.jpg
ORGANIZER;CN="Myy Learning":MAILTO:laura@myylearning.fi
END:VEVENT
END:VCALENDAR