BEGIN:VCALENDAR
VERSION:2.0
PRODID:-//Myy Learning - ECPv6.15.20//NONSGML v1.0//EN
CALSCALE:GREGORIAN
METHOD:PUBLISH
X-ORIGINAL-URL:https://myylearning.fi
X-WR-CALDESC:Tapahtumat Myy Learning
REFRESH-INTERVAL;VALUE=DURATION:PT1H
X-Robots-Tag:noindex
X-PUBLISHED-TTL:PT1H
BEGIN:VTIMEZONE
TZID:Europe/Helsinki
BEGIN:DAYLIGHT
TZOFFSETFROM:+0200
TZOFFSETTO:+0300
TZNAME:EEST
DTSTART:20250330T010000
END:DAYLIGHT
BEGIN:STANDARD
TZOFFSETFROM:+0300
TZOFFSETTO:+0200
TZNAME:EET
DTSTART:20251026T010000
END:STANDARD
BEGIN:DAYLIGHT
TZOFFSETFROM:+0200
TZOFFSETTO:+0300
TZNAME:EEST
DTSTART:20260329T010000
END:DAYLIGHT
BEGIN:STANDARD
TZOFFSETFROM:+0300
TZOFFSETTO:+0200
TZNAME:EET
DTSTART:20261025T010000
END:STANDARD
BEGIN:DAYLIGHT
TZOFFSETFROM:+0200
TZOFFSETTO:+0300
TZNAME:EEST
DTSTART:20270328T010000
END:DAYLIGHT
BEGIN:STANDARD
TZOFFSETFROM:+0300
TZOFFSETTO:+0200
TZNAME:EET
DTSTART:20271031T010000
END:STANDARD
END:VTIMEZONE
BEGIN:VEVENT
DTSTART;TZID=Europe/Helsinki:20260525T183000
DTEND;TZID=Europe/Helsinki:20260720T200000
DTSTAMP:20260421T131517
CREATED:20250830T100423Z
LAST-MODIFIED:20260322T062343Z
UID:3801-1779733800-1784577600@myylearning.fi
SUMMARY:Ammattilaisille: Tekoäly eläinlääkinnässä - Mahdollisuus vai muutosvastarinta?
DESCRIPTION:Yhteistyössä Provet & Myy Learning\nTekoäly on tullut jäädäkseen – mutta mitä se tarkoittaa eläinlääkärin arjessa? Tässä webinaarisarjassa saat käytännönläheisen ja asiantuntevan katsauksen tekoälyn rooliin eläinlääkinnässä\, sen mahdollisuuksiin ja haasteisiin. Tämä maksuton luentosarja sopii kaikille eläinlääketieteen alan ammattilaisille\, jotka haluavat ymmärtää tekoälyn perusteet ja sovellukset eläinlääkärin työssä. \nSarja on katsottavissa 31.5.2026 asti.\n🧠 Webinaari 1. Tallenne\nJos haluat kuunnella koko sarjan\, ilmoittaudu koko sarjaan ja saat sähköpostitse linkin tallenteisiin sekä live-webinaareihin. Voit ilmoittautua\, vaikka live-tapahtumat olisivat jo menneet. \nTiivis johdanto tekoälyn maailmaan eläinlääkinnän näkökulmasta. \nSisältö: \n\nMitä tekoäly on?\nTekoälyn mahdollisuudet eläinlääkinnässä\nVinkkejä tekoälyn turvalliseen käyttöönottoon\nProvetin uudet tekoälytyökalut\nKatsaus tuleviin webinaareihin\n\n🎓 Webinaari 2: Tekoäly tutuksi – mitä eläinlääkärin kannattaa tietää?\nSyvenny tekoälyn perusteisiin ja sen rooliin terveydenhuollossa. \nSisältö: \n\nTekoälyn käsitteet lyhyesti\nTekoälyn rooli terveydenhuollossa\nEsimerkkejä ihmislääketieteestä\nTekoäly eläinlääketieteessä – nykytila\nEettiset ja juridiset näkökulmat\nKäytännön kokemuksia\nMahdollisuudet ja haasteet\n\n🧪 Webinaari 3: Tekoäly töissä – tekoälyn sovellutukset potilastyöstä tutkimukseen\nKäytännön esimerkkejä tekoälyn hyödyntämisestä eläinlääkärin työssä ja tutkimuksessa. \nSisältö: \n\nTekoäly kliinisessä työssä\nDiagnostiikkatyökalut ja päätöksentuki\nKirjaaminen ja potilastietojen hallinta\nChatbotit ja asiakasviestintä\nTekoäly tutkimuksessa\nEsimerkkejä tutkimuksista\nTutkimuseettiset näkökulmat\nTulevaisuuden näkymät\n\n👩‍⚕️ Puhujaesittely\n \nAino-Maija Palosaari\nEläinlääkäri & tradenomi (YAMK) \nAino-Maijalla on laaja kokemus praktiikasta\, klinikkayrittäjyydestä ja virkaeläinlääkärin työstä. Hän toimii Provet Cloudin asiantuntijaeläinlääkärinä ja on mukana tekoälyratkaisujen tuotekehityksessä. Opinnäytetyössään hän tutki tekoälyn hyödyntämistä eläinlääkinnässä\, ja ymmärtää syvällisesti sekä alan tarpeita että digityökalujen tarjoamia mahdollisuuksia. \nIlmoittautuminen\nTämän sivun kautta voit tilata koko webinaarisarjan ja materiaalit.  Webinaarisarja on maksuton ja sen mahdollistavat Nordhealth sekä Myy Learning yhdessä. \nTervetuloa mukaan!
URL:https://myylearning.fi/koulutus/ammattilaisille-tekoaly-elainlaakinnassa-mahdollisuus-vai-muutosvastarinta/
LOCATION:Helsinki
CATEGORIES:Ammattilaisille,Event,Luento,Verkkotapahtuma
ATTACH;FMTTYPE=image/png:https://myylearning.fi/wp-content/uploads/2025/08/ai-provet.png
ORGANIZER;CN="Myy Learning":MAILTO:laura@myylearning.fi
END:VEVENT
BEGIN:VEVENT
DTSTART;TZID=Europe/Helsinki:20260526T190000
DTEND;TZID=Europe/Helsinki:20260526T203000
DTSTAMP:20260421T131517
CREATED:20260219T091600Z
LAST-MODIFIED:20260313T063628Z
UID:5339-1779822000-1779827400@myylearning.fi
SUMMARY:Kuluttajaluento: Pentuperheen kompastuskivet - selkeyttä pentuarkeen (maksuton)
DESCRIPTION:Pentuarki – enemmän iloa\, vähemmän hämmennystä\nPentuarki on monelle uusi ja usein yllättävän kuormittava elämänvaihe. Vaikka taustalla on parhaat mahdolliset aikomukset ja into tehdä asiat “oikein”\, kokonaisuus saattaa silti tuntua hajanaiselta – miksi homma ei toimi\, vaikka yritän kaikkea? \nTällä luennolla pureudutaan pentuperheen tavallisimpiin sudenkuoppiin ja siihen\, miten arjen pienetkin valinnat näkyvät pennun jaksamisessa\, oppimisessa ja käytöksessä. Mukana on selkeää tietoa siitä\, mitkä asiat ovat oikeasti olennaisia ja missä kohdassa vähemmän tekemistä on itse asiassa enemmän hyvinvointia. \nLuento antaa konkreettisia\, arjessa heti kokeiltavia keinoja\, jotka auttavat luomaan pennulle turvallisen\, tasapainoisen arjen ja tuovat tekemiseen lisää selkeyttä sekä vanhemmille että pennulle.\nTämä on oiva hetki pysähtyä\, hengähtää ja katsoa pentuarkea kokonaisuutena – lempeästi\, realistisesti ja ilman suorituspaineita. \nKenelle luento sopii? \nLuento sopii kaikille pentuperheille\, jotka haluavat: \n\nymmärtää pentunsa käyttäytymistä ja tarpeita paremmin\nsaada rauhaa ja rakennetta arkeen\nselkeyttää\, mihin oikeasti kannattaa panostaa\nvähentää epävarmuutta ja korvata sen varmoilla\, toimivilla käytännöillä\n\n  \nLuennoitsija: \n \n  \nSuosittu koirankouluttaja Piia Collanin (Koirapalvelu Collan) työssä korostuvat arjen realismi\, koiran hyvinvointi ja perheen jaksaminen. Lähestymistapa on selkokielinen ja käytännönläheinen\, ilman suorittamista tai turhaa monimutkaistamista.  \nPiia tunnetaan iloisena\, huumorintajuisena ja aidosti kuuntelevana ammattilaisena. \nPiialla on suorittanut käyttäytymistieteelliset eläintenkouluttajaopinnot Suomen eläinkoulutuskeskuksessa. Hän toimii aktiivisesti Vesikoirat ry:ssä eri rooleissa. Piia myös kirjoittaa säännöllisesti koira-aiheisia artikkeleita lehtiin ja verkkoon.\nKouluttajana Piia keskittyy aina ensin ihmisen ohjaamiseen: ymmärrykseen\, ennakointiin ja koiran elekielen lukemiseen. Hänen koulutusfilosofiansa perustuu tutkittuun tietoon\, koiralähtöiseen työskentelyyn ja väkivallattomuuteen. Piia kuuluu Eläinkouluttajakiltaan ja noudattaa Suomen eläintenkouluttajat ry:n eettisiä sääntöjä. \nLuennolla mukana kotimainen yritys Biofarm. He maahantuovat lemmikkien hoitotuotteita\, mukaan lukien kissojen hampaiden hoitotuotteet. He myös kehittävät ja valmistavat itse tuotteita lemmikkien hyvinvointiin. \nLuento on maksuton\, eikä siitä tehdä tallennetta. Tulethan siis linjoille (Teams). Kutsun luennolle saat luentopäivän aamuna. \nIlmoittaudu viimeistään 24.5.2026. tämän sivun lomakkeen kautta. \nTervetuloa mukaan!
URL:https://myylearning.fi/koulutus/kuluttajaluento-pentuperheen-kompastuskivet-selkeytta-pentuarkeen-maksuton/
LOCATION:Teams (Online)\, Finland
CATEGORIES:Etäkoulutus,Event,Kuluttajaluento,Luento,Verkkotapahtuma
ATTACH;FMTTYPE=image/jpeg:https://myylearning.fi/wp-content/uploads/2026/02/129022855_169016391600122_8124074838647441283_n.jpg
ORGANIZER;CN="Myy Learning":MAILTO:laura@myylearning.fi
END:VEVENT
END:VCALENDAR