BEGIN:VCALENDAR
VERSION:2.0
PRODID:-//Myy Learning - ECPv6.15.20//NONSGML v1.0//EN
CALSCALE:GREGORIAN
METHOD:PUBLISH
X-WR-CALNAME:Myy Learning
X-ORIGINAL-URL:https://myylearning.fi
X-WR-CALDESC:Tapahtumat Myy Learning
REFRESH-INTERVAL;VALUE=DURATION:PT1H
X-Robots-Tag:noindex
X-PUBLISHED-TTL:PT1H
BEGIN:VTIMEZONE
TZID:Europe/Helsinki
BEGIN:DAYLIGHT
TZOFFSETFROM:+0200
TZOFFSETTO:+0300
TZNAME:EEST
DTSTART:20240331T010000
END:DAYLIGHT
BEGIN:STANDARD
TZOFFSETFROM:+0300
TZOFFSETTO:+0200
TZNAME:EET
DTSTART:20241027T010000
END:STANDARD
BEGIN:DAYLIGHT
TZOFFSETFROM:+0200
TZOFFSETTO:+0300
TZNAME:EEST
DTSTART:20250330T010000
END:DAYLIGHT
BEGIN:STANDARD
TZOFFSETFROM:+0300
TZOFFSETTO:+0200
TZNAME:EET
DTSTART:20251026T010000
END:STANDARD
BEGIN:DAYLIGHT
TZOFFSETFROM:+0200
TZOFFSETTO:+0300
TZNAME:EEST
DTSTART:20260329T010000
END:DAYLIGHT
BEGIN:STANDARD
TZOFFSETFROM:+0300
TZOFFSETTO:+0200
TZNAME:EET
DTSTART:20261025T010000
END:STANDARD
END:VTIMEZONE
BEGIN:VEVENT
DTSTART;TZID=Europe/Helsinki:20250521T190000
DTEND;TZID=Europe/Helsinki:20250521T200000
DTSTAMP:20260422T094008
CREATED:20250423T045700Z
LAST-MODIFIED:20250521T052508Z
UID:2819-1747854000-1747857600@myylearning.fi
SUMMARY:Kuluttajaluento: Kissan ruokinta ikävaiheittain (maksuton)
DESCRIPTION:Tervetuloa ensimmäiselle kissan ruokintaa käsittelevälle luennolle! Luennon aikana perehdymme kissan ravitsemuksen eri elämänvaiheisiin – pentuiästä aikuisuuteen ja seniorivuosiin. \nKäymme läpi kunkin ikävaiheen erityistarpeet ja ravitsemukselliset vaatimukset\, jotta kissasi voi hyvin joka vaiheessa elämäänsä. Lisäksi tutustumme siihen\, miten ruokaa voi käyttää virikkeenä ja osana kissan päivittäistä aktivointia. \nLuento tarjoaa käytännön vinkkejä ja ajankohtaista tietoa kaikille kissanomistajille\, jotka haluavat tarjota lemmikilleen parasta mahdollista hoivaa ravinnon avulla. \n \nLuennoitsijana kokenut eläintenhoitaja Paula Laitinen. Hän on suorittanut klinikkaeläinhoitajan erikoisammattitutkinnon (ravitsemus) ja työskennellyt pitkään eläinlääkäriasemalla ja eläinruokateollisuuden parissa. Tällä hetkellä Paula kouluttaa eläinlääkäriasemien henkilökuntaa ravitsemuksen saralla. \nLuento on maksuton\, ja sen tarjoaa Purina Pro Plan. Ilmoittaudu luennolle 20.5.2025 mennessä. Ilmoittautuneille lähetetään henkilökohtainen linkki tapahtumaan 21.5. aamupäivän aikana. Luentoa ei tallenneta. \nVoit halutessasi lähettää meille ennakkoon ruokinta-aiheisia kysymyksiä sähköpostilla laura@myylearning.fi. Pyrimme vastaamaan näihin luennolla. \nTervetuloa mukaan! \nPs. Seuraava maksuton kissaluento on 12.6.2025. Aiheena kissan ruokinta erityistilanteissa. \nLuennolla mukana myös Pieneläinvastaanotto Punaturkki. Luennosta palautetta antaneiden kesken arvomme Purina Pro Plan- kissanruokaa.
URL:https://myylearning.fi/koulutus/kuluttajaluento-kissan-ruokinta-ikavaiheittain/
LOCATION:Teams (Online)\, Finland
CATEGORIES:Etäkoulutus,Kuluttajaluento,Luento,Verkkotapahtuma
ATTACH;FMTTYPE=image/jpeg:https://myylearning.fi/wp-content/uploads/2025/04/sandra1.jpg
ORGANIZER;CN="Myy Learning":MAILTO:laura@myylearning.fi
END:VEVENT
END:VCALENDAR