BEGIN:VCALENDAR
VERSION:2.0
PRODID:-//Myy Learning - ECPv6.15.20//NONSGML v1.0//EN
CALSCALE:GREGORIAN
METHOD:PUBLISH
X-ORIGINAL-URL:https://myylearning.fi
X-WR-CALDESC:Tapahtumat Myy Learning
REFRESH-INTERVAL;VALUE=DURATION:PT1H
X-Robots-Tag:noindex
X-PUBLISHED-TTL:PT1H
BEGIN:VTIMEZONE
TZID:Europe/Helsinki
BEGIN:DAYLIGHT
TZOFFSETFROM:+0200
TZOFFSETTO:+0300
TZNAME:EEST
DTSTART:20240331T010000
END:DAYLIGHT
BEGIN:STANDARD
TZOFFSETFROM:+0300
TZOFFSETTO:+0200
TZNAME:EET
DTSTART:20241027T010000
END:STANDARD
BEGIN:DAYLIGHT
TZOFFSETFROM:+0200
TZOFFSETTO:+0300
TZNAME:EEST
DTSTART:20250330T010000
END:DAYLIGHT
BEGIN:STANDARD
TZOFFSETFROM:+0300
TZOFFSETTO:+0200
TZNAME:EET
DTSTART:20251026T010000
END:STANDARD
BEGIN:DAYLIGHT
TZOFFSETFROM:+0200
TZOFFSETTO:+0300
TZNAME:EEST
DTSTART:20260329T010000
END:DAYLIGHT
BEGIN:STANDARD
TZOFFSETFROM:+0300
TZOFFSETTO:+0200
TZNAME:EET
DTSTART:20261025T010000
END:STANDARD
END:VTIMEZONE
BEGIN:VEVENT
DTSTART;TZID=Europe/Helsinki:20250327T190000
DTEND;TZID=Europe/Helsinki:20250327T201500
DTSTAMP:20260420T133751
CREATED:20250302T171722Z
LAST-MODIFIED:20250327T114301Z
UID:2373-1743102000-1743106500@myylearning.fi
SUMMARY:Kuluttajaluento: Näin teet kissasi onnelliseksi - Eläintenkouluttajan vinkit kissan hyvinvoinnin perusteisiin
DESCRIPTION:Myyn ensimmäinen kissaluento on täällä! \nPieneläinvastaanotto Punaturkki yhteistyössä Myy Learningin ja Kissakoulun kanssa järjestää luennon kissan hyvinvoinnin peruspilareista. \nLuennon kuvaus: \nKissojen omistajille ja kissasta haaveileville suunnattu\, käytännönläheinen luento kokoaa yhteen kissan arjen hyvinvoinnin peruspilareita. Tämän luennon jälkeen tiedät\, mitä kissa tarvitsee ollakseen onnellinen ja saat käytännöllisiä vinkkejä kissasi hyvinvoinnin tueksi. Luennolla käydään läpi perusteita eri aiheista\, kuten kissan ruokinta\, terveys\, kissalle sopiva elinympäristö\, kissan aktivointi ja virikkeistäminen sekä kissan oppiminen ja koulutus. \nLuennoitsijan esittely: Janina Rönnqvist on kissoihin erikoistunut eläintenkouluttaja\, joka on auttanut kissojen omistajia ei-toivotun käyttäytymisen\, erilaisten ongelmatilanteiden ja kissan arjen taitojen kouluttamisen kanssa. Yrityksensä Kissakoulun kautta Janina on myös luennoinut ja ohjannut eläintenhoidon opiskelijoita. Eläintenkouluttajan ammattitutkinnon lisäksi Janina on suorittanut kissojen ruokinnan osatutkinnon. \nKissan ehdoilla tapahtuva silittäminen lisää sekä omistajan että kissan aivoissa onnellisuushormoni oksitosiinia.\nYhteistyössä\n \n \nLuento järjestetään webinaarina torstaina 27.3 klo 19.00-20.15. Linkki tapahtumaan on henkilökohtainen. Ilmoittaudu viimeistään 24.3. mennessä! Luento on maksuton.\nVahvistamme ilmoittautumisesi sähköpostilla vuorokauden kuluessa ilmoittautumisesta ja lähetämme muutama päivä ennen tapahtumaa linkin\, jonka kautta pääset liittymään luennolle. \nTutustu luentoesitteeseen täältä. \nTervetuloa mukaan! \nhttps://myylearning.fi/wp-content/uploads/2025/03/6f37f882-43ae-4ad3-883a-139d301e230d.mp4
URL:https://myylearning.fi/koulutus/kuluttajaluento-nain-teet-kissasi-onnelliseksi-elaintenkouluttajan-vinkit-kissan-hyvinvoinnin-perusteisiin/
LOCATION:Teams (Online)\, Finland
CATEGORIES:Etäkoulutus,Kuluttajaluento,Luento,Verkkotapahtuma
ATTACH;FMTTYPE=image/jpeg:https://myylearning.fi/wp-content/uploads/2025/03/kissa1.jpg
ORGANIZER;CN="Myy Learning":MAILTO:laura@myylearning.fi
END:VEVENT
END:VCALENDAR