BEGIN:VCALENDAR
VERSION:2.0
PRODID:-//Myy Learning - ECPv6.15.20//NONSGML v1.0//EN
CALSCALE:GREGORIAN
METHOD:PUBLISH
X-WR-CALNAME:Myy Learning
X-ORIGINAL-URL:https://myylearning.fi
X-WR-CALDESC:Tapahtumat Myy Learning
REFRESH-INTERVAL;VALUE=DURATION:PT1H
X-Robots-Tag:noindex
X-PUBLISHED-TTL:PT1H
BEGIN:VTIMEZONE
TZID:Europe/Helsinki
BEGIN:DAYLIGHT
TZOFFSETFROM:+0200
TZOFFSETTO:+0300
TZNAME:EEST
DTSTART:20240331T010000
END:DAYLIGHT
BEGIN:STANDARD
TZOFFSETFROM:+0300
TZOFFSETTO:+0200
TZNAME:EET
DTSTART:20241027T010000
END:STANDARD
BEGIN:DAYLIGHT
TZOFFSETFROM:+0200
TZOFFSETTO:+0300
TZNAME:EEST
DTSTART:20250330T010000
END:DAYLIGHT
BEGIN:STANDARD
TZOFFSETFROM:+0300
TZOFFSETTO:+0200
TZNAME:EET
DTSTART:20251026T010000
END:STANDARD
BEGIN:DAYLIGHT
TZOFFSETFROM:+0200
TZOFFSETTO:+0300
TZNAME:EEST
DTSTART:20260329T010000
END:DAYLIGHT
BEGIN:STANDARD
TZOFFSETFROM:+0300
TZOFFSETTO:+0200
TZNAME:EET
DTSTART:20261025T010000
END:STANDARD
END:VTIMEZONE
BEGIN:VEVENT
DTSTART;VALUE=DATE:20250829
DTEND;VALUE=DATE:20250830
DTSTAMP:20260420T080046
CREATED:20250417T060000Z
LAST-MODIFIED:20250822T124638Z
UID:2728-1756425600-1756511999@myylearning.fi
SUMMARY:Pomon Oma Päivä 29.8.2025
DESCRIPTION:  \n   \nAsiaa ja afteria samassa paketissa – eläinalan vuoden kovin tapahtuma elokuussa 2025!   \nPomon Oma Päivä perjantaina 29.8.2025 on ammatillinen ja tunnelmallinen kohtaamispaikka kaikille eläinalan esihenkilöille\, yrittäjille ja muille aiheesta kiinnostuneille. Tervetuloa viihtymään\, verkostoitumaan\, vaikuttumaan ja virkistäytymään!  \n🎤 Seminaariosuudessa saat konkreettisia työkaluja muun muassa: \n\nJohtajan oman mielen hallintaan (Aapo Kilpeläinen\, urheilupsykologi\, kognitiivinen psykoterapeutti\, mentaalivalmentaja kymmenille arvokisamitalisteille)\nToimivan tiimin rakentamiseen tavalla\, joka tukee yrityksen strategiaa ja kehittymistä (Heidi Hiitiö\, ELT\, tuotantoeläinten terveyden- ja sairaanhoidon erikoiseläinlääkäri\, yritysneuvoja EAT\, EMBA (cand.)\nTyöyhteisön draaman vähentämiseen ja tehon lisäämiseen (Agata Makowiecka\, ELL\, ratkaisukeskeinen työnohjaaja (STOry)\, rakentavan vuorovaikutuksen ohjaaja (RVO®) \nEläinalan arjen haasteiden taklaamiseen (Laura Kortelainen\, yrittäjä\, toimitusjohtaja\, HR(D) Asiantuntija\, pieneläinhoitaja) \n\n  \nPaikalla on lukuisia näytteilleasettajia\, joilla on tarjolla tuotteita ja palveluita arkeasi helpottamaan. Voit myös käydä nappaamassa itsestäsi veloituksetta ammattivalokuvaajan ottaman henkilökuvan vaikkapa CV:hen! Lisäksi saat mukaasi tuotekassin\, joka sisältää Pomolle sopivia tuotteita. \n🎉 Lipun hintaan sisältyy tietysti myös jatkot\, eli bileet tiedossa! Illaksi siirrymme Allas Sea Poolille kuuntelemaan valovoimaista Jenni Vartiaista. \n🎟 LIPPUVAIHTOEHDOT:\nEarly bird (29.4.–31.5.): 350 € (alv 0 %)\nLate bird (1.6.–4.8.): 400 € (alv 0 %) \nHinta sisältää:\n✅ Seminaaripäivän ohjelman ja tarjoilut\n✅ Lipun jatkoille Allas Sea Poolille pe 29.8.2025 (Keikalla Jenni Vartiainen) \nMAJOITUS: \nSaat kauttamme myös edullisen majoituspaketin  Solo Sokos Hotel Helsinkiin \nSokos Hotels Myyntipalvelu Puhelin: +358 300 870 000 / yksittäiset huonevaraukset \nSähköposti: sokos.hotels@sok.fi Mainitkaa ystävällisesti kiintiötunnus ”BPOP” varausta tehdessä. \nMajoitushinnat \nSolo 1hh 150 € / huone \nSolo 2hh 170 € / huone \nSolo Up 1hh 165 €  huone \nSolo Up 2hh 185 € / huone \nToinen vaihtoehto hieman kauempana keskustasta:  VALO hotelli (Helsinki). Majoitushinnat alkaen 97 e /hlö. Käytä varauskoodia PRORC. \nKENELLE?\nTapahtuma on suunnattu esimerkiksi eläinalan yrittäjille\, eläinlääkäriaseman omistajille\, kuntapraktikoille\, elintarvikehygieenikoille\, eläinalan esihenkilöille (kuten esimerkiksi vastuuhoitajat\, klinikkamanagerit\, tiimivetäjät) sekä muille aiheesta kiinnostuneille alan ihmisille. \nMISSÄ? \nTapahtuma järjestetään upeissa puitteissa uudistetussa Solo Sokos Hotel Helsingissä\, sen Blomstedt-salissa (entinen Helsinki Club) päärautatieaseman välittömässä läheisyydessä. Pääset siis hurauttamaan paikalle kätevästi vaikka junalla\, ja halutessasi voit myös yöpyä samaisessa hotellissa edulliseen hintaan. \n📆 ILMOITTAUTUMINEN:  \nOsta lippu verkkokaupastamme. Ilmoittautumisen jälkeen saat kuitin sähköpostiisi\, tarkistathan myös roskapostilaatikon\, jos kuittia ei löydy. \nKaikki tiedustelut: Laura Kortelainen\, p. 040 519 2065\, laura@myylearning.fi \nAIKATAULU Perjantai 29.8: \nKlo 9.00 Aamukahvi ja näyttelyyn tutustuminen \nKlo 9.45 Luennot alkavat \nKlo 12.00 Lounas ja näyttelyyn tutustuminen \nKlo 13.00 Luennot jatkuvat \nKlo 13.45 Tauko ja näyttelyyn tutustuminen \nKlo 15.30 Luentojen päätössanat \nKlo 16.00 Luentotila sulkeutuu \nKlo 19.00 Allas Sea Poolin ovet aukeavat \nJenni Vartiaisen keikka ja jatkot Helsingin yössä. \nMUKANA NÄYTTELYSSÄ (Täydentyy): \nLindmed – Laadukkaat laitteet ja tarvikkeet eläinlääketieteen ammattilaisille. When life matters. \nFelt Fotografi – Studio\, jossa ihmiset ja valokuvaus kohtaavat! \nElanco Animal Health – Visionamme on toimittaa tuotteita\, jotka ehkäisevät ja hoitavat sairauksia\, tarjoavat eläinlääkäreille lisää hoitovaihtoehtoja ja parantavat lemmikkieläinten elämänlaatua. \nTriolab – Triolab tarjoaa kattavan valikoiman laboratoriodiagnostiikkatuotteita eläinklinikoille. Perinteisen diagnostiikan rinnalla löytyy myös tekoälyä hyödyntäviä laitteita ja menetelmiä. Asiantuntevat edustajamme ovat mukana tukemassa ja kehittämässä asiakkaidemme laboratoriotoimintaa. \nPurina Pro Plan – Tieteeseen perustuvaa ravitsemusta\, joka on kehitetty tukemaan lemmikkien terveyttä ja hyvinvointia kaikissa elämänvaiheissa. \nB.Braun   – Luotettava kumppani eläinystäviemme kokonaisvaltaiseen hoitoon. \nFaunaPharma \n  
URL:https://myylearning.fi/koulutus/pomon-oma-paiva-29-8-2025/
CATEGORIES:Ammattilaisille,Eläinlääketiede,Event
ORGANIZER;CN="Myy Learning":MAILTO:laura@myylearning.fi
END:VEVENT
END:VCALENDAR